Workbook

Sheet ลักษณะกิจกรรม
B1: รายละเอียดวิธีการคำนวณ | K1: รหัส | L1: LESS-TM-01
B2: ชื่อวิธีการคำนวณ | C2: การใช้หรือเปลี่ยนยานพาหนะเครื่องยนต์สันดาปภายในเป็นยานพาหนะไฟฟ้า | K2: Version | L2: 01
B3: ชื่อองค์กร | C3: หน่วยงาน | K3: หน้าที่ | L3: 1
B4: ชื่อผู้จัดทำ | C4: กรอกข้อมูล | G4: เบอร์โทรศัพท์ | I4: กรอกข้อมูล | K4: วันที่จัดทำ | L4: 243091
B6: ประเภทกิจกรรม
B7: โครงการประเภทการจัดการในภาคขนส่ง
B9: ลักษณะของกิจกรรมโครงการที่เข้าข่าย (Applicability)
B10: 1. ประเภทของยานพาหนะต้องเป็นไปตามกฎหมาย (พรบ. รถยนต์/พรบ. การขนส่งทางบก) โดยประเภทที่เข้าข่าย คือ รถยนต์ 4 ล้อ รถจักรยานยนต์ รถสามล้อเครื่อง (รถตุ๊กตุ๊ก) รถโดยสาร และรถบรรทุก
B11: 2. กิจกรรมการใช้ยานพาหนะต้องเป็นการขนส่งผู้โดยสาร หรือบรรทุกสินค้าในลักษณะส่วนบุคคลหรือรับจ้างเท่านั้น
B12: 3. เป็นการใช้ยานพาหนะไฮบริด/ยานพาหนะไฟฟ้าใหม่ หรือเป็นการใช้ยานพาหนะไฮบริด/ยานพาหนะไฟฟ้าเพื่อแทนที่ยานพาหนะเครื่องยนต์สันดาปภายในที่มีอยู่เดิม
B13: 4. กรณีใช้แทนที่ยานพาหนะเดิม ยานพาหนะเครื่องยนต์สันดาปภายใน (ในกรณีฐาน) กับยานพาหนะไฮบริด/ยานพาหนะไฟฟ้า (การดำเนินโครงการ) ต้องเป็นประเภทเดียวกัน และต้องไม่เป็นการดัดแปลงยานพาหนะเครื่องยนต์สันดาปภายในที่มีอยู่เดิม
B14: 5. ยานพาหนะไฟฟ้าต้องสามารถติดตามพลังงานไฟฟ้าที่ใช้ในการชาร์จ เชื้อเพลิงฟอสซอลที่ใช้ และระยะทางการใช้งานได้
B15: 6. กรณีที่ยานพาหนะไฟฟ้ามีการชาร์จพลังงานไฟฟ้าที่ผลิตจากพลังงานหมุนเวียน ต้องมีการติดตามข้อมูลพลังงานไฟฟ้าที่ชาร์จจากพลังงานหมุนเวียนได้
B17: การปล่อยก๊าซเรือนกระจกจากกรณีฐาน (Baseline Emission)
B18: ก๊าซเรือนกระจก | C18: แหล่งปล่อยก๊าซเรือนกระจก
B19: CO2 | C19: การปล่อยก๊าซเรือนกระจกจากการเผาไหม้เชื้อเพลิงฟอสซิลของยานพาหนะเครื่องยนต์สันดาปภายใน (กรณีฐาน)
B21: การปล่อยก๊าซเรือนกระจกจากจากการดำเนินโครงการ (Project Emission)
B22: ก๊าซเรือนกระจก | C22: แหล่งปล่อยก๊าซเรือนกระจก
B23: CO2 | C23: การปล่อยก๊าซเรือนกระจกจากการใช้พลังงานไฟฟ้าจากยานพาหนะไฮบริด/ยานพาหนะไฟฟ้า
C24: การใช้เชื้อเพลิงฟอสซิลจากยานพาหนะไฮบริด
B26: หมายเหตุ: กรณียานพาหนะใหม่ หมายถึง เป็นการซื้อใหม่ เช่าซื้อ หรือเช่ายานพาหนะไฮบริด/ยานพาหนะไฟฟ้าใหม่มาใช้ในกิจกรรมของหน่วยงาน ซึ่งในอดีตไม่เคยมีการใช้ยานพาหนะใดๆ ในกิจกรรมเดียวกัน

Sheet ข้อมูลกิจกรรม (แทนที่รถเดิม)
B1: รายละเอียดวิธีการคำนวณ | K1: รหัส | L1: =+ลักษณะกิจกรรม!L1 -> LESS-TM-01
B2: ชื่อวิธีการคำนวณ | C2: =+ลักษณะกิจกรรม!C2 -> การใช้หรือเปลี่ยนยานพาหนะเครื่องยนต์สันดาปภายในเป็นยานพาหนะไฟฟ้า | K2: Version | L2: =+ลักษณะกิจกรรม!L2 -> 01
B3: ชื่อองค์กร | C3: หน่วยงาน | K3: หน้าที่ | L3: 2
B4: ชื่อผู้จัดทำ | C4: =+ลักษณะกิจกรรม!C4 -> กรอกข้อมูล | F4: เบอร์โทรศัพท์ | G4: =ลักษณะกิจกรรม!$I$4 -> กรอกข้อมูล | K4: วันที่จัดทำ | L4: =+ลักษณะกิจกรรม!L4 -> 243091
A6: ช่วงระยะเวลาที่ขอการรับรองปริมาณก๊าซเรือนกระจกที่ลดได้ 1 สิงหาคม 2564 - 30 เมษายน 2565
A7: รถคันที่/เส้นทางการให้บริการ | B7: ระยะทาง ที่รถไฟฟ้าวิ่ง (กิโลเมตร) | C7: ประเภทรถ | D7: กรณีฐาน (รถเครื่องยนต์สันดาป) | F7: กรณีดำเนินโครงการ (รถไฮบริด/รถไฟฟ้า) | J7: ปริมาณ การปล่อยก๊าซ เรือนกระจกกรณีฐาน (kgCO2eq) | K7: ปริมาณการปล่อยก๊าซเรือนกระจกจากการดำเนินโครงการ (kgCO2eq) | L7: ปริมาณการลดการปล่อยก๊าซเรือนกระจก (kgCO2eq)
D8: ชนิดเชื้อเพลิง | E8: ความสิ้นเปลืองพลังงานจำเพาะต่อระยะทาง (ลิตร/กม.) | F8: พลังงานไฟฟ้าจากสายส่งที่ใช้ในการชาร์จทั้งหมด (kWh) | G8: พลังงานไฟฟ้าจากพลังงานทดแทนที่ใช้ในการชาร์จทั้งหมด (kWh) | H8: ชนิดเชื้อเพลิงที่ใช้ | I8: ปริมาณเชื้อเพลิงที่ใช้ (ลิตร, กิโลกรัม)
A9: ชื่อเส้นทาง/คันที่ | J9: =IFERROR(($E9*(VLOOKUP($D9,อ้างอิง!$C$11:$F$21,4,FALSE))),0)*B9 -> 0 | K9: =(F9*อ้างอิง!$F$22)+IFERROR(($I9*(VLOOKUP($H9,อ้างอิง!$C$11:$F$21,4,FALSE))),0) -> 0 | L9: =J9-K9 -> 0
J10: =IFERROR(($E10*(VLOOKUP($D10,อ้างอิง!$C$11:$F$21,4,FALSE))),0)*B10 -> 0 | K10: =(F10*อ้างอิง!$F$22)+IFERROR(($I10*(VLOOKUP($H10,อ้างอิง!$C$11:$F$21,4,FALSE))),0) -> 0 | L10: =J10-K10 -> 0
J11: =IFERROR(($E11*(VLOOKUP($D11,อ้างอิง!$C$11:$F$21,4,FALSE))),0)*B11 -> 0 | K11: =(F11*อ้างอิง!$F$22)+IFERROR(($I11*(VLOOKUP($H11,อ้างอิง!$C$11:$F$21,4,FALSE))),0) -> 0 | L11: =J11-K11 -> 0
J12: =IFERROR(($E12*(VLOOKUP($D12,อ้างอิง!$C$11:$F$21,4,FALSE))),0)*B12 -> 0 | K12: =(F12*อ้างอิง!$F$22)+IFERROR(($I12*(VLOOKUP($H12,อ้างอิง!$C$11:$F$21,4,FALSE))),0) -> 0 | L12: =J12-K12 -> 0
J13: =IFERROR(($E13*(VLOOKUP($D13,อ้างอิง!$C$11:$F$21,4,FALSE))),0)*B13 -> 0 | K13: =(F13*อ้างอิง!$F$22)+IFERROR(($I13*(VLOOKUP($H13,อ้างอิง!$C$11:$F$21,4,FALSE))),0) -> 0 | L13: =J13-K13 -> 0
J14: =IFERROR(($E14*(VLOOKUP($D14,อ้างอิง!$C$11:$F$21,4,FALSE))),0)*B14 -> 0 | K14: =(F14*อ้างอิง!$F$22)+IFERROR(($I14*(VLOOKUP($H14,อ้างอิง!$C$11:$F$21,4,FALSE))),0) -> 0 | L14: =J14-K14 -> 0
J15: =IFERROR(($E15*(VLOOKUP($D15,อ้างอิง!$C$11:$F$21,4,FALSE))),0)*B15 -> 0 | K15: =(F15*อ้างอิง!$F$22)+IFERROR(($I15*(VLOOKUP($H15,อ้างอิง!$C$11:$F$21,4,FALSE))),0) -> 0 | L15: =J15-K15 -> 0
J16: =IFERROR(($E16*(VLOOKUP($D16,อ้างอิง!$C$11:$F$21,4,FALSE))),0)*B16 -> 0 | K16: =(F16*อ้างอิง!$F$22)+IFERROR(($I16*(VLOOKUP($H16,อ้างอิง!$C$11:$F$21,4,FALSE))),0) -> 0 | L16: =J16-K16 -> 0
J17: =IFERROR(($E17*(VLOOKUP($D17,อ้างอิง!$C$11:$F$21,4,FALSE))),0)*B17 -> 0 | K17: =(F17*อ้างอิง!$F$22)+IFERROR(($I17*(VLOOKUP($H17,อ้างอิง!$C$11:$F$21,4,FALSE))),0) -> 0 | L17: =J17-K17 -> 0
J18: =IFERROR(($E18*(VLOOKUP($D18,อ้างอิง!$C$11:$F$21,4,FALSE))),0)*B18 -> 0 | K18: =(F18*อ้างอิง!$F$22)+IFERROR(($I18*(VLOOKUP($H18,อ้างอิง!$C$11:$F$21,4,FALSE))),0) -> 0 | L18: =J18-K18 -> 0
J19: =IFERROR(($E19*(VLOOKUP($D19,อ้างอิง!$C$11:$F$21,4,FALSE))),0)*B19 -> 0 | K19: =(F19*อ้างอิง!$F$22)+IFERROR(($I19*(VLOOKUP($H19,อ้างอิง!$C$11:$F$21,4,FALSE))),0) -> 0 | L19: =J19-K19 -> 0
J20: =IFERROR(($E20*(VLOOKUP($D20,อ้างอิง!$C$11:$F$21,4,FALSE))),0)*B20 -> 0 | K20: =(F20*อ้างอิง!$F$22)+IFERROR(($I20*(VLOOKUP($H20,อ้างอิง!$C$11:$F$21,4,FALSE))),0) -> 0 | L20: =J20-K20 -> 0
J21: =IFERROR(($E21*(VLOOKUP($D21,อ้างอิง!$C$11:$F$21,4,FALSE))),0)*B21 -> 0 | K21: =(F21*อ้างอิง!$F$22)+IFERROR(($I21*(VLOOKUP($H21,อ้างอิง!$C$11:$F$21,4,FALSE))),0) -> 0 | L21: =J21-K21 -> 0
... J53: =IFERROR(($E53*(VLOOKUP($D53,อ้างอิง!$C$11:$F$21,4,FALSE))),0)*B53 -> 0 | K53: =(F53*อ้างอิง!$F$22)+IFERROR(($I53*(VLOOKUP($H53,อ้างอิง!$C$11:$F$21,4,FALSE))),0) -> 0 | L53: =J53-K53 -> 0
A54: รวม | J54: =SUM(J9:J53) -> 0 | K54: =SUM(K9:K53) -> 0 | L54: =SUM(L9:L53) -> 0

Sheet ข้อมูลกิจกรรม (รถใหม่)
B1: รายละเอียดวิธีการคำนวณ | K1: รหัส | L1: =+ลักษณะกิจกรรม!L1 -> LESS-TM-01
B2: ชื่อวิธีการคำนวณ | C2: =+ลักษณะกิจกรรม!C2 -> การใช้หรือเปลี่ยนยานพาหนะเครื่องยนต์สันดาปภายในเป็นยานพาหนะไฟฟ้า | K2: Version | L2: =+ลักษณะกิจกรรม!L2 -> 01
B3: ชื่อองค์กร | C3: =+ลักษณะกิจกรรม!C3 -> หน่วยงาน | K3: หน้าที่ | L3: 2
B4: ชื่อผู้จัดทำ | C4: =+ลักษณะกิจกรรม!C4 -> กรอกข้อมูล | F4: เบอร์โทรศัพท์ | G4: =ลักษณะกิจกรรม!$I$4 -> กรอกข้อมูล | K4: วันที่จัดทำ | L4: =+ลักษณะกิจกรรม!L4 -> 243091
A6: ช่วงระยะเวลาที่ขอการรับรองปริมาณก๊าซเรือนกระจกที่ลดได้ .......(ระบุช่วงเวลา วัน เดือน ปี - วัน เดือน ปี ).........
A7: รถคันที่/เส้นทางการให้บริการ | B7: ระยะทาง ที่รถไฟฟ้าวิ่ง (กิโลเมตร) | C7: ประเภทรถไฟฟ้า | D7: กรณีฐาน (รถเครื่องยนต์สันดาป) | F7: กรณีดำเนินโครงการ (รถไฮบริด/รถไฟฟ้า) | J7: ปริมาณ การปล่อยก๊าซ เรือนกระจกกรณีฐาน (kgCO2eq) | K7: ปริมาณการปล่อยก๊าซเรือนกระจกจากการดำเนินโครงการ (kgCO2eq) | L7: ปริมาณการลดการปล่อยก๊าซเรือนกระจก (kgCO2eq)
D8: ชนิดเชื้อเพลิง | E8: ความสิ้นเปลืองพลังงานจำเพาะต่อระยะทาง (หน่วย/กม.)* | F8: พลังงานไฟฟ้าจากสายส่งที่ใช้ในการชาร์จทั้งหมด (kWh) | G8: พลังงานไฟฟ้าจากพลังงานทดแทนที่ใช้ในการชาร์จทั้งหมด (kWh) | H8: ชนิดเชื้อเพลิงที่ใช้ | I8: ปริมาณเชื้อเพลิงที่ใช้ (ลิตร, กิโลกรัม)
A9: ชื่อเส้นทาง/คันที่ | D9: =IFERROR(VLOOKUP($C9,อ้างอิง!$C$32:$E$38,2,FALSE),0) -> 0 | E9: =IFERROR(VLOOKUP($C9,อ้างอิง!$C$32:$E$38,3,FALSE),0) -> 0 | J9: =IFERROR(($E9*(VLOOKUP($D9,อ้างอิง!$D$32:$F$38,3,FALSE))),0)*B9 -> 0 | K9: =(F9*อ้างอิง!$F$22)+IFERROR(($I9*(VLOOKUP($H9,อ้างอิง!$C$11:$F$21,4,FALSE))),0) -> 0 | L9: =J9-K9 -> 0
D10: =IFERROR(VLOOKUP($C10,อ้างอิง!$C$32:$E$38,2,FALSE),0) -> 0 | E10: =IFERROR(VLOOKUP($C10,อ้างอิง!$C$32:$E$38,3,FALSE),0) -> 0 | J10: =IFERROR(($E10*(VLOOKUP($D10,อ้างอิง!$D$32:$F$38,3,FALSE))),0)*B10 -> 0 | K10: =(F10*อ้างอิง!$F$22)+IFERROR(($I10*(VLOOKUP($H10,อ้างอิง!$C$11:$F$21,4,FALSE))),0) -> 0 | L10: =J10-K10 -> 0
D11: =IFERROR(VLOOKUP($C11,อ้างอิง!$C$32:$E$38,2,FALSE),0) -> 0 | E11: =IFERROR(VLOOKUP($C11,อ้างอิง!$C$32:$E$38,3,FALSE),0) -> 0 | J11: =IFERROR(($E11*(VLOOKUP($D11,อ้างอิง!$D$32:$F$38,3,FALSE))),0)*B11 -> 0 | K11: =(F11*อ้างอิง!$F$22)+IFERROR(($I11*(VLOOKUP($H11,อ้างอิง!$C$11:$F$21,4,FALSE))),0) -> 0 | L11: =J11-K11 -> 0
D12: =IFERROR(VLOOKUP($C12,อ้างอิง!$C$32:$E$38,2,FALSE),0) -> 0 | E12: =IFERROR(VLOOKUP($C12,อ้างอิง!$C$32:$E$38,3,FALSE),0) -> 0 | J12: =IFERROR(($E12*(VLOOKUP($D12,อ้างอิง!$D$32:$F$38,3,FALSE))),0)*B12 -> 0 | K12: =(F12*อ้างอิง!$F$22)+IFERROR(($I12*(VLOOKUP($H12,อ้างอิง!$C$11:$F$21,4,FALSE))),0) -> 0 | L12: =J12-K12 -> 0
D13: =IFERROR(VLOOKUP($C13,อ้างอิง!$C$32:$E$38,2,FALSE),0) -> 0 | E13: =IFERROR(VLOOKUP($C13,อ้างอิง!$C$32:$E$38,3,FALSE),0) -> 0 | J13: =IFERROR(($E13*(VLOOKUP($D13,อ้างอิง!$D$32:$F$38,3,FALSE))),0)*B13 -> 0 | K13: =(F13*อ้างอิง!$F$22)+IFERROR(($I13*(VLOOKUP($H13,อ้างอิง!$C$11:$F$21,4,FALSE))),0) -> 0 | L13: =J13-K13 -> 0
D14: =IFERROR(VLOOKUP($C14,อ้างอิง!$C$32:$E$38,2,FALSE),0) -> 0 | E14: =IFERROR(VLOOKUP($C14,อ้างอิง!$C$32:$E$38,3,FALSE),0) -> 0 | J14: =IFERROR(($E14*(VLOOKUP($D14,อ้างอิง!$D$32:$F$38,3,FALSE))),0)*B14 -> 0 | K14: =(F14*อ้างอิง!$F$22)+IFERROR(($I14*(VLOOKUP($H14,อ้างอิง!$C$11:$F$21,4,FALSE))),0) -> 0 | L14: =J14-K14 -> 0
D15: =IFERROR(VLOOKUP($C15,อ้างอิง!$C$32:$E$38,2,FALSE),0) -> 0 | E15: =IFERROR(VLOOKUP($C15,อ้างอิง!$C$32:$E$38,3,FALSE),0) -> 0 | J15: =IFERROR(($E15*(VLOOKUP($D15,อ้างอิง!$D$32:$F$38,3,FALSE))),0)*B15 -> 0 | K15: =(F15*อ้างอิง!$F$22)+IFERROR(($I15*(VLOOKUP($H15,อ้างอิง!$C$11:$F$21,4,FALSE))),0) -> 0 | L15: =J15-K15 -> 0
D16: =IFERROR(VLOOKUP($C16,อ้างอิง!$C$32:$E$38,2,FALSE),0) -> 0 | E16: =IFERROR(VLOOKUP($C16,อ้างอิง!$C$32:$E$38,3,FALSE),0) -> 0 | J16: =IFERROR(($E16*(VLOOKUP($D16,อ้างอิง!$D$32:$F$38,3,FALSE))),0)*B16 -> 0 | K16: =(F16*อ้างอิง!$F$22)+IFERROR(($I16*(VLOOKUP($H16,อ้างอิง!$C$11:$F$21,4,FALSE))),0) -> 0 | L16: =J16-K16 -> 0
D17: =IFERROR(VLOOKUP($C17,อ้างอิง!$C$32:$E$38,2,FALSE),0) -> 0 | E17: =IFERROR(VLOOKUP($C17,อ้างอิง!$C$32:$E$38,3,FALSE),0) -> 0 | J17: =IFERROR(($E17*(VLOOKUP($D17,อ้างอิง!$D$32:$F$38,3,FALSE))),0)*B17 -> 0 | K17: =(F17*อ้างอิง!$F$22)+IFERROR(($I17*(VLOOKUP($H17,อ้างอิง!$C$11:$F$21,4,FALSE))),0) -> 0 | L17: =J17-K17 -> 0
D18: =IFERROR(VLOOKUP($C18,อ้างอิง!$C$32:$E$38,2,FALSE),0) -> 0 | E18: =IFERROR(VLOOKUP($C18,อ้างอิง!$C$32:$E$38,3,FALSE),0) -> 0 | J18: =IFERROR(($E18*(VLOOKUP($D18,อ้างอิง!$D$32:$F$38,3,FALSE))),0)*B18 -> 0 | K18: =(F18*อ้างอิง!$F$22)+IFERROR(($I18*(VLOOKUP($H18,อ้างอิง!$C$11:$F$21,4,FALSE))),0) -> 0 | L18: =J18-K18 -> 0
D19: =IFERROR(VLOOKUP($C19,อ้างอิง!$C$32:$E$38,2,FALSE),0) -> 0 | E19: =IFERROR(VLOOKUP($C19,อ้างอิง!$C$32:$E$38,3,FALSE),0) -> 0 | J19: =IFERROR(($E19*(VLOOKUP($D19,อ้างอิง!$D$32:$F$38,3,FALSE))),0)*B19 -> 0 | K19: =(F19*อ้างอิง!$F$22)+IFERROR(($I19*(VLOOKUP($H19,อ้างอิง!$C$11:$F$21,4,FALSE))),0) -> 0 | L19: =J19-K19 -> 0
D20: =IFERROR(VLOOKUP($C20,อ้างอิง!$C$32:$E$38,2,FALSE),0) -> 0 | E20: =IFERROR(VLOOKUP($C20,อ้างอิง!$C$32:$E$38,3,FALSE),0) -> 0 | J20: =IFERROR(($E20*(VLOOKUP($D20,อ้างอิง!$D$32:$F$38,3,FALSE))),0)*B20 -> 0 | K20: =(F20*อ้างอิง!$F$22)+IFERROR(($I20*(VLOOKUP($H20,อ้างอิง!$C$11:$F$21,4,FALSE))),0) -> 0 | L20: =J20-K20 -> 0
D21: =IFERROR(VLOOKUP($C21,อ้างอิง!$C$32:$E$38,2,FALSE),0) -> 0 | E21: =IFERROR(VLOOKUP($C21,อ้างอิง!$C$32:$E$38,3,FALSE),0) -> 0 | J21: =IFERROR(($E21*(VLOOKUP($D21,อ้างอิง!$D$32:$F$38,3,FALSE))),0)*B21 -> 0 | K21: =(F21*อ้างอิง!$F$22)+IFERROR(($I21*(VLOOKUP($H21,อ้างอิง!$C$11:$F$21,4,FALSE))),0) -> 0 | L21: =J21-K21 -> 0
... D54: =IFERROR(VLOOKUP($C54,อ้างอิง!$C$32:$E$38,2,FALSE),0) -> 0 | E54: =IFERROR(VLOOKUP($C54,อ้างอิง!$C$32:$E$38,3,FALSE),0) -> 0 | J54: =IFERROR(($E54*(VLOOKUP($D54,อ้างอิง!$D$32:$F$38,3,FALSE))),0)*B54 -> 0 | K54: =(F54*อ้างอิง!$F$22)+IFERROR(($I54*(VLOOKUP($H54,อ้างอิง!$C$11:$F$21,4,FALSE))),0) -> 0 | L54: =J54-K54 -> 0
A55: รวม | J55: =SUM(J9:J54) -> 0 | K55: =SUM(K9:K54) -> 0 | L55: =SUM(L9:L54) -> 0
A56: หมายเหตุ: * หน่วยค่าความสิ้นเปลืองของ CNG คือ kg/km และ E20 คือ Liter/km

Sheet สรุปผลการประเมิน
B1: รายละเอียดวิธีการคำนวณ | K1: รหัส | L1: =+ลักษณะกิจกรรม!L1 -> LESS-TM-01
B2: ชื่อวิธีการคำนวณ | C2: =+ลักษณะกิจกรรม!C2 -> การใช้หรือเปลี่ยนยานพาหนะเครื่องยนต์สันดาปภายในเป็นยานพาหนะไฟฟ้า | K2: Version | L2: =+ลักษณะกิจกรรม!L2 -> 01
B3: ชื่อองค์กร | C3: =ลักษณะกิจกรรม!$C$3 -> หน่วยงาน | K3: หน้าที่ | L3: 4
B4: ชื่อผู้จัดทำ | C4: =ลักษณะกิจกรรม!$C$4 -> กรอกข้อมูล | G4: เบอร์โทรศัพท์ | I4: =ลักษณะกิจกรรม!$I$4 -> กรอกข้อมูล | K4: วันที่จัดทำ | L4: =+ลักษณะกิจกรรม!L4 -> 243091
B6: กรณีทดแทนรถเดิม
B8: ปริมาณการลดการปล่อยก๊าซเรือนกระจก (kgCO2eq) | C8: = | D8: ปริมาณการปล่อย ก๊าซเรือนกระจกจากกรณีฐาน (kgCO2eq) | G8: - | H8: ปริมาณการปล่อยก๊าซเรือนกระจกจากการดำเนินโครงการ (kgCO2eq)
B9: =ROUNDDOWN((D9-H9),0) -> 0 | C9: = | D9: ='ข้อมูลกิจกรรม (แทนที่รถเดิม)'!$J$54 -> 0 | G9: - | H9: ='ข้อมูลกิจกรรม (แทนที่รถเดิม)'!$K$54 -> 0
B11: กรณีรถใหม่
B13: ปริมาณการลดการปล่อยก๊าซเรือนกระจก (kgCO2eq) | C13: = | D13: ปริมาณการปล่อย ก๊าซเรือนกระจกจากกรณีฐาน (kgCO2eq) | G13: - | H13: ปริมาณการปล่อยก๊าซเรือนกระจกจากการดำเนินโครงการ (kgCO2eq)
B14: =ROUNDDOWN((D14-H14),0) -> 0 | C14: = | D14: ='ข้อมูลกิจกรรม (รถใหม่)'!$J$55 -> 0 | G14: - | H14: ='ข้อมูลกิจกรรม (รถใหม่)'!$K$55 -> 0

Sheet อ้างอิง
C1: สมการคำนวณ
C2: ปริมาณการลดการปล่อย ก๊าซเรือนกระจก (kgCO2eq) | D2: = ปริมาณการปล่อยก๊าซเรือนกระจกจากกรณีฐาน (kgCO2eq) - ปริมาณการปล่อยก๊าซเรือนกระจกจากการดำเนินโครงการ (kgCO2eq)
C3: ปริมาณการปล่อย ก๊าซเรือนกระจกจากกรณีฐาน (kgCO2eq) | D3: = (ปริมาณเชื้อเพลิงฟอสซิลที่ใช้ในกรณีฐาน x NCVi x EFfuel,i)
C4: ปริมาณการปล่อยก๊าซเรือนกระจกจากการดำเนินโครงการ (kgCO2eq) | D4: = (ปริมาณพลังงานไฟฟ้าที่ใช้สำหรับดำเนินกิจกรรม x EFelec) + (ปริมาณเชื้อเพลิงฟอสซิลที่ใช้สำหรับดำเนินกิจกรรม x NCVi x EFfuel,i)
C5: อ้างอิงวิธีการคำนวณ | D5: T-VER-METH-TM-01 การเปลี่ยนยานพาหนะเครื่องยนต์สันดาปภายในเป็นยานพาหนะไฮบริด/ยานพาหนะไฟฟ้า T-VER-METH-TM-04 การใช้ยานพาหนะไฮบริด/ยานพาหนะไฟฟ้าใหม่
B6: ค่าอ้างอิง
C7: ชนิดเชื้อเพลิง | D7: ค่า NCV | E7: EF fuel | F7: =NCV*EF fuel
D8: ค่าความร้อนสุทธิ (Net Calorific Value) | E8: ค่าการปล่อยก๊าซเรือนกระจก
C9: ที่มา: ข้อมูลการตรวจวัด,ใบเสร็จขององค์กร | D9: ที่มา: โครงการติดตามประเมิน (Tracking) การใช้พลังงานที่ลดลงจากมาตรการภาคขนส่งด้วยการพัฒนารับบรถไฟฟ้าขนส่งมวลชน, สนข. | E9: ที่มา: 2006 IPCC Guidelines for National Greenhouse Gas Inventories, Volume 2: Energy, Table 1.4
D10: MJ/หน่วย | E10: kgCO2eq/MJ | F10: kgCO2eq/หน่วย | G10: ชนิดเชื้อเพลิง
C11: น้ำมันเบนซิน (ลิตร) | D11: 31.48 | E11: =69300/1000000 -> 0.0693 | F11: =D11*E11 -> 2.181564 | G11: น้ำมันเบนซิน
C12: น้ำมันดีเซล (ลิตร) | D12: 36.42 | E12: =74100/1000000 -> 0.0741 | F12: =D12*E12 -> 2.698722 | G12: น้ำมันดีเซล
C13: แก๊สโซฮอล์ 91 (ลิตร) | D13: 30.68 | E13: =62370/1000000 -> 0.06237 | F13: =D13*E13 -> 1.9135116 | G13: =C13 -> แก๊สโซฮอล์ 91 (ลิตร)
C14: แก๊สโซฮอล์ 95 (ลิตร) | D14: 30.68 | E14: =62370/1000000 -> 0.06237 | F14: =D14*E14 -> 1.9135116 | G14: =C14 -> แก๊สโซฮอล์ 95 (ลิตร)
C15: E20 (ลิตร) | D15: 29.88 | E15: =55440/1000000 -> 0.05544 | F15: =D15*E15 -> 1.6565472 | G15: =C15 -> E20 (ลิตร)
C16: E85 (ลิตร) | D16: 24.7 | E16: =10395/1000000 -> 0.010395 | F16: =D16*E16 -> 0.2567565 | G16: =C16 -> E85 (ลิตร)
C17: NGV/CNG (กิโลกรัม) | D17: 37.92 | E17: =56100/1000000 -> 0.0561 | F17: =D17*E17 -> 2.127312 | G17: =C17 -> NGV/CNG (กิโลกรัม)
C18: LPG (ลิตร) | D18: 26.62 | E18: =63100*10^-6 -> 0.0631 | F18: =D18*E18 -> 1.679722 | G18: =C18 -> LPG (ลิตร)
C19: ดีเซล B7 (ลิตร) | D19: 36.42 | E19: =(74100*0.93)/1000000 -> 0.068913 | F19: =D19*E19 -> 2.5098115 | G19: =C19 -> ดีเซล B7 (ลิตร)
C20: ดีเซล B10 (ลิตร) | D20: 36.42 | E20: =(74100*0.9)/1000000 -> 0.06669 | F20: =D20*E20 -> 2.4288498 | G20: =C20 -> ดีเซล B10 (ลิตร)
C21: ดีเซล B20 (ลิตร) | D21: 36.42 | E21: =(74100*0.8)/1000000 -> 0.05928 | F21: =D21*E21 -> 2.1589776 | G21: =C21 -> ดีเซล B20 (ลิตร)
C22: ไฟฟ้า (kWh) | F22: 0.477 | G22: =C22 -> ไฟฟ้า (kWh)
C24: หมายเหตุ: 1) kgCO2eq คือ กิโลกรัมคาร์บอนไดออกไซด์เทียบเท่า
C25: 2) B10 น้ำมันดีเซลชนิดพื้นฐานของประเทศ ตามประกาศประกาศกรมธุรกิจพลังงาน, 2563
C26: 3) E20 น้ำมันเบนซิน ที่มีส่วนผสมของเอทิลแอลกอฮอล์หรือเอทานอล ชนิดความบริสุทธิ์ 99.5% ในอัตราส่วน 20% กับน้ำมันเบนซินชนิดพิเศษ (Base Gasohol) 80%
C27: 4) ค่าการปล่อยก๊าซเรือนกระจกจากระบบสายส่งสำหรับผู้ใช้ไฟฟ้า ในปี y สำหรับโครงการและกิจกรรมลดก๊าซเรือนกระจกที่ประกาศโดย อบก.
C29: กรณีรถใหม่
C30: ประเภทของยานพาหนะ | D30: ประเภท | E30: ค่าความสิ้นเปลือง (Unit/km)* | F30: NCV*EF
D31: เชื้อเพลิงอ้างอิง | F31: kgCO2eq/หน่วย
C32: รถยนต์ (รถเก๋ง) | D32: CNG | E32: 0.0841 | F32: =$F$17 -> 2.127312
C33: รถกระบะบรรทุก (4 ล้อ) | D33: CNG | E33: 0.0999 | F33: =$F$17 -> 2.127312
C34: รถแท็กซี่ | D34: CNG | E34: 0.0836 | F34: =$F$17 -> 2.127312
C35: รถตู้ | D35: CNG | E35: 0.0894 | F35: =$F$17 -> 2.127312
C36: รถจักรยานยนต์ | D36: E20 | E36: =1/44.8 -> 0.022321429 | F36: =F15 -> 1.6565472
C37: รถสามล้อเครื่อง | D37: CNG | E37: 0.0797 | F37: =$F$17 -> 2.127312
C38: รถโดยสาร | D38: CNG | E38: 0.2703 | F38: =$F$17 -> 2.127312
C39: อ้างอิง: สำนักงานนโยบายและแผนการขนส่งและจราจร ปี 2563 | E39: * หน่วยค่าความสิ้นเปลืองของ CNG คือ kg/km และ E20 คือ Liter/km
